Workbook

Sheet 判定
A1: 判定
A2: 黄色=入力 / 青字=入力値 / 数式セルは編集しない
A4: 媒体 | B4: キャンペーン | C4: 判定 | D4: 理由
A5: =IF('実績貼り付け'!B5="","",'実績貼り付け'!A5) | B5: =IF('実績貼り付け'!B5="","",'実績貼り付け'!B5) | C5: =IF(B5="","",IF(OR('設定'!$B$12<>"OK",SUMIFS('実績貼り付け'!$H$19:$H$28,'実績貼り付け'!$A$19:$A$28,A5,'実績貼り付け'!$B$19:$B$28,B5)=0,SUMIFS('実績貼り付け'!$C$19:$C$28,'実績貼り付け'!$A$19:$A$28,A5,'実績貼り付け'!$B$19:$B$28,B5)<'実績貼り付け'!C5,SUMIFS('実績貼り付け'!$D$19:$D$28,'実績貼り付け'!$A$19:$A$28,A5,'実績貼り付け'!$B$19:$B$28,B5)<'実績貼り付け'!D5,SUMIFS('実績貼り付け'!$E$19:$E$28,'実績貼り付け'!$A$19:$A$28,A5,'実績貼り付け'!$B$19:$B$28,B5)<'実績貼り付け'!E5),"保留",IF('実績貼り付け'!D5=0,IF('実績貼り付け'!C5>='設定'!$B$6*'設定'!$B$9,"止める","保留"),IF('実績貼り付け'!E5<'設定'!$B$7,"保留",IF('実績貼り付け'!C5<'設定'!$B$8,"保留",IF(('実績貼り付け'!C5/'実績貼り付け'!D5)>'設定'!$B$6,"止める",IF(AND(SUMIFS('実績貼り付け'!$D$19:$D$28,'実績貼り付け'!$A$19:$A$28,A5,'実績貼り付け'!$B$19:$B$28,B5)>0,('実績貼り付け'!C5/'実績貼り付け'!D5)/(SUMIFS('実績貼り付け'!$C$19:$C$28,'実績貼り付け'!$A$19:$A$28,A5,'実績貼り付け'!$B$19:$B$28,B5)/SUMIFS('実績貼り付け'!$D$19:$D$28,'実績貼り付け'!$A$19:$A$28,A5,'実績貼り付け'!$B$19:$B$28,B5))-1>='設定'!$B$10),"絞る",IF(('実績貼り付け'!C5/'実績貼り付け'!D5)>'設定'!$B$5,"絞る",IF(('実績貼り付け'!C5/'実績貼り付け'!D5)='設定'!$B$5,"据え置き","伸ばす"))))))))) | D5: =IF(B5="","",IF(C5="保留","入力・期間整合・最低データ量を確認",IF(C5="止める",IF('実績貼り付け'!D5=0,"CV0で停止費用に到達","7日CPAが許容上限を超過"),IF(C5="絞る","7日CPAが急悪化または目標超過",IF(C5="伸ばす","7日CPAが目標未満・必要量を充足","7日CPAが目標と同じ")))))
A6: =IF('実績貼り付け'!B6="","",'実績貼り付け'!A6) | B6: =IF('実績貼り付け'!B6="","",'実績貼り付け'!B6) | C6: =IF(B6="","",IF(OR('設定'!$B$12<>"OK",SUMIFS('実績貼り付け'!$H$19:$H$28,'実績貼り付け'!$A$19:$A$28,A6,'実績貼り付け'!$B$19:$B$28,B6)=0,SUMIFS('実績貼り付け'!$C$19:$C$28,'実績貼り付け'!$A$19:$A$28,A6,'実績貼り付け'!$B$19:$B$28,B6)<'実績貼り付け'!C6,SUMIFS('実績貼り付け'!$D$19:$D$28,'実績貼り付け'!$A$19:$A$28,A6,'実績貼り付け'!$B$19:$B$28,B6)<'実績貼り付け'!D6,SUMIFS('実績貼り付け'!$E$19:$E$28,'実績貼り付け'!$A$19:$A$28,A6,'実績貼り付け'!$B$19:$B$28,B6)<'実績貼り付け'!E6),"保留",IF('実績貼り付け'!D6=0,IF('実績貼り付け'!C6>='設定'!$B$6*'設定'!$B$9,"止める","保留"),IF('実績貼り付け'!E6<'設定'!$B$7,"保留",IF('実績貼り付け'!C6<'設定'!$B$8,"保留",IF(('実績貼り付け'!C6/'実績貼り付け'!D6)>'設定'!$B$6,"止める",IF(AND(SUMIFS('実績貼り付け'!$D$19:$D$28,'実績貼り付け'!$A$19:$A$28,A6,'実績貼り付け'!$B$19:$B$28,B6)>0,('実績貼り付け'!C6/'実績貼り付け'!D6)/(SUMIFS('実績貼り付け'!$C$19:$C$28,'実績貼り付け'!$A$19:$A$28,A6,'実績貼り付け'!$B$19:$B$28,B6)/SUMIFS('実績貼り付け'!$D$19:$D$28,'実績貼り付け'!$A$19:$A$28,A6,'実績貼り付け'!$B$19:$B$28,B6))-1>='設定'!$B$10),"絞る",IF(('実績貼り付け'!C6/'実績貼り付け'!D6)>'設定'!$B$5,"絞る",IF(('実績貼り付け'!C6/'実績貼り付け'!D6)='設定'!$B$5,"据え置き","伸ばす"))))))))) | D6: =IF(B6="","",IF(C6="保留","入力・期間整合・最低データ量を確認",IF(C6="止める",IF('実績貼り付け'!D6=0,"CV0で停止費用に到達","7日CPAが許容上限を超過"),IF(C6="絞る","7日CPAが急悪化または目標超過",IF(C6="伸ばす","7日CPAが目標未満・必要量を充足","7日CPAが目標と同じ")))))
A7: =IF('実績貼り付け'!B7="","",'実績貼り付け'!A7) | B7: =IF('実績貼り付け'!B7="","",'実績貼り付け'!B7) | C7: =IF(B7="","",IF(OR('設定'!$B$12<>"OK",SUMIFS('実績貼り付け'!$H$19:$H$28,'実績貼り付け'!$A$19:$A$28,A7,'実績貼り付け'!$B$19:$B$28,B7)=0,SUMIFS('実績貼り付け'!$C$19:$C$28,'実績貼り付け'!$A$19:$A$28,A7,'実績貼り付け'!$B$19:$B$28,B7)<'実績貼り付け'!C7,SUMIFS('実績貼り付け'!$D$19:$D$28,'実績貼り付け'!$A$19:$A$28,A7,'実績貼り付け'!$B$19:$B$28,B7)<'実績貼り付け'!D7,SUMIFS('実績貼り付け'!$E$19:$E$28,'実績貼り付け'!$A$19:$A$28,A7,'実績貼り付け'!$B$19:$B$28,B7)<'実績貼り付け'!E7),"保留",IF('実績貼り付け'!D7=0,IF('実績貼り付け'!C7>='設定'!$B$6*'設定'!$B$9,"止める","保留"),IF('実績貼り付け'!E7<'設定'!$B$7,"保留",IF('実績貼り付け'!C7<'設定'!$B$8,"保留",IF(('実績貼り付け'!C7/'実績貼り付け'!D7)>'設定'!$B$6,"止める",IF(AND(SUMIFS('実績貼り付け'!$D$19:$D$28,'実績貼り付け'!$A$19:$A$28,A7,'実績貼り付け'!$B$19:$B$28,B7)>0,('実績貼り付け'!C7/'実績貼り付け'!D7)/(SUMIFS('実績貼り付け'!$C$19:$C$28,'実績貼り付け'!$A$19:$A$28,A7,'実績貼り付け'!$B$19:$B$28,B7)/SUMIFS('実績貼り付け'!$D$19:$D$28,'実績貼り付け'!$A$19:$A$28,A7,'実績貼り付け'!$B$19:$B$28,B7))-1>='設定'!$B$10),"絞る",IF(('実績貼り付け'!C7/'実績貼り付け'!D7)>'設定'!$B$5,"絞る",IF(('実績貼り付け'!C7/'実績貼り付け'!D7)='設定'!$B$5,"据え置き","伸ばす"))))))))) | D7: =IF(B7="","",IF(C7="保留","入力・期間整合・最低データ量を確認",IF(C7="止める",IF('実績貼り付け'!D7=0,"CV0で停止費用に到達","7日CPAが許容上限を超過"),IF(C7="絞る","7日CPAが急悪化または目標超過",IF(C7="伸ばす","7日CPAが目標未満・必要量を充足","7日CPAが目標と同じ")))))
A8: =IF('実績貼り付け'!B8="","",'実績貼り付け'!A8) | B8: =IF('実績貼り付け'!B8="","",'実績貼り付け'!B8) | C8: =IF(B8="","",IF(OR('設定'!$B$12<>"OK",SUMIFS('実績貼り付け'!$H$19:$H$28,'実績貼り付け'!$A$19:$A$28,A8,'実績貼り付け'!$B$19:$B$28,B8)=0,SUMIFS('実績貼り付け'!$C$19:$C$28,'実績貼り付け'!$A$19:$A$28,A8,'実績貼り付け'!$B$19:$B$28,B8)<'実績貼り付け'!C8,SUMIFS('実績貼り付け'!$D$19:$D$28,'実績貼り付け'!$A$19:$A$28,A8,'実績貼り付け'!$B$19:$B$28,B8)<'実績貼り付け'!D8,SUMIFS('実績貼り付け'!$E$19:$E$28,'実績貼り付け'!$A$19:$A$28,A8,'実績貼り付け'!$B$19:$B$28,B8)<'実績貼り付け'!E8),"保留",IF('実績貼り付け'!D8=0,IF('実績貼り付け'!C8>='設定'!$B$6*'設定'!$B$9,"止める","保留"),IF('実績貼り付け'!E8<'設定'!$B$7,"保留",IF('実績貼り付け'!C8<'設定'!$B$8,"保留",IF(('実績貼り付け'!C8/'実績貼り付け'!D8)>'設定'!$B$6,"止める",IF(AND(SUMIFS('実績貼り付け'!$D$19:$D$28,'実績貼り付け'!$A$19:$A$28,A8,'実績貼り付け'!$B$19:$B$28,B8)>0,('実績貼り付け'!C8/'実績貼り付け'!D8)/(SUMIFS('実績貼り付け'!$C$19:$C$28,'実績貼り付け'!$A$19:$A$28,A8,'実績貼り付け'!$B$19:$B$28,B8)/SUMIFS('実績貼り付け'!$D$19:$D$28,'実績貼り付け'!$A$19:$A$28,A8,'実績貼り付け'!$B$19:$B$28,B8))-1>='設定'!$B$10),"絞る",IF(('実績貼り付け'!C8/'実績貼り付け'!D8)>'設定'!$B$5,"絞る",IF(('実績貼り付け'!C8/'実績貼り付け'!D8)='設定'!$B$5,"据え置き","伸ばす"))))))))) | D8: =IF(B8="","",IF(C8="保留","入力・期間整合・最低データ量を確認",IF(C8="止める",IF('実績貼り付け'!D8=0,"CV0で停止費用に到達","7日CPAが許容上限を超過"),IF(C8="絞る","7日CPAが急悪化または目標超過",IF(C8="伸ばす","7日CPAが目標未満・必要量を充足","7日CPAが目標と同じ")))))
A9: =IF('実績貼り付け'!B9="","",'実績貼り付け'!A9) | B9: =IF('実績貼り付け'!B9="","",'実績貼り付け'!B9) | C9: =IF(B9="","",IF(OR('設定'!$B$12<>"OK",SUMIFS('実績貼り付け'!$H$19:$H$28,'実績貼り付け'!$A$19:$A$28,A9,'実績貼り付け'!$B$19:$B$28,B9)=0,SUMIFS('実績貼り付け'!$C$19:$C$28,'実績貼り付け'!$A$19:$A$28,A9,'実績貼り付け'!$B$19:$B$28,B9)<'実績貼り付け'!C9,SUMIFS('実績貼り付け'!$D$19:$D$28,'実績貼り付け'!$A$19:$A$28,A9,'実績貼り付け'!$B$19:$B$28,B9)<'実績貼り付け'!D9,SUMIFS('実績貼り付け'!$E$19:$E$28,'実績貼り付け'!$A$19:$A$28,A9,'実績貼り付け'!$B$19:$B$28,B9)<'実績貼り付け'!E9),"保留",IF('実績貼り付け'!D9=0,IF('実績貼り付け'!C9>='設定'!$B$6*'設定'!$B$9,"止める","保留"),IF('実績貼り付け'!E9<'設定'!$B$7,"保留",IF('実績貼り付け'!C9<'設定'!$B$8,"保留",IF(('実績貼り付け'!C9/'実績貼り付け'!D9)>'設定'!$B$6,"止める",IF(AND(SUMIFS('実績貼り付け'!$D$19:$D$28,'実績貼り付け'!$A$19:$A$28,A9,'実績貼り付け'!$B$19:$B$28,B9)>0,('実績貼り付け'!C9/'実績貼り付け'!D9)/(SUMIFS('実績貼り付け'!$C$19:$C$28,'実績貼り付け'!$A$19:$A$28,A9,'実績貼り付け'!$B$19:$B$28,B9)/SUMIFS('実績貼り付け'!$D$19:$D$28,'実績貼り付け'!$A$19:$A$28,A9,'実績貼り付け'!$B$19:$B$28,B9))-1>='設定'!$B$10),"絞る",IF(('実績貼り付け'!C9/'実績貼り付け'!D9)>'設定'!$B$5,"絞る",IF(('実績貼り付け'!C9/'実績貼り付け'!D9)='設定'!$B$5,"据え置き","伸ばす"))))))))) | D9: =IF(B9="","",IF(C9="保留","入力・期間整合・最低データ量を確認",IF(C9="止める",IF('実績貼り付け'!D9=0,"CV0で停止費用に到達","7日CPAが許容上限を超過"),IF(C9="絞る","7日CPAが急悪化または目標超過",IF(C9="伸ばす","7日CPAが目標未満・必要量を充足","7日CPAが目標と同じ")))))
A10: =IF('実績貼り付け'!B10="","",'実績貼り付け'!A10) | B10: =IF('実績貼り付け'!B10="","",'実績貼り付け'!B10) | C10: =IF(B10="","",IF(OR('設定'!$B$12<>"OK",SUMIFS('実績貼り付け'!$H$19:$H$28,'実績貼り付け'!$A$19:$A$28,A10,'実績貼り付け'!$B$19:$B$28,B10)=0,SUMIFS('実績貼り付け'!$C$19:$C$28,'実績貼り付け'!$A$19:$A$28,A10,'実績貼り付け'!$B$19:$B$28,B10)<'実績貼り付け'!C10,SUMIFS('実績貼り付け'!$D$19:$D$28,'実績貼り付け'!$A$19:$A$28,A10,'実績貼り付け'!$B$19:$B$28,B10)<'実績貼り付け'!D10,SUMIFS('実績貼り付け'!$E$19:$E$28,'実績貼り付け'!$A$19:$A$28,A10,'実績貼り付け'!$B$19:$B$28,B10)<'実績貼り付け'!E10),"保留",IF('実績貼り付け'!D10=0,IF('実績貼り付け'!C10>='設定'!$B$6*'設定'!$B$9,"止める","保留"),IF('実績貼り付け'!E10<'設定'!$B$7,"保留",IF('実績貼り付け'!C10<'設定'!$B$8,"保留",IF(('実績貼り付け'!C10/'実績貼り付け'!D10)>'設定'!$B$6,"止める",IF(AND(SUMIFS('実績貼り付け'!$D$19:$D$28,'実績貼り付け'!$A$19:$A$28,A10,'実績貼り付け'!$B$19:$B$28,B10)>0,('実績貼り付け'!C10/'実績貼り付け'!D10)/(SUMIFS('実績貼り付け'!$C$19:$C$28,'実績貼り付け'!$A$19:$A$28,A10,'実績貼り付け'!$B$19:$B$28,B10)/SUMIFS('実績貼り付け'!$D$19:$D$28,'実績貼り付け'!$A$19:$A$28,A10,'実績貼り付け'!$B$19:$B$28,B10))-1>='設定'!$B$10),"絞る",IF(('実績貼り付け'!C10/'実績貼り付け'!D10)>'設定'!$B$5,"絞る",IF(('実績貼り付け'!C10/'実績貼り付け'!D10)='設定'!$B$5,"据え置き","伸ばす"))))))))) | D10: =IF(B10="","",IF(C10="保留","入力・期間整合・最低データ量を確認",IF(C10="止める",IF('実績貼り付け'!D10=0,"CV0で停止費用に到達","7日CPAが許容上限を超過"),IF(C10="絞る","7日CPAが急悪化または目標超過",IF(C10="伸ばす","7日CPAが目標未満・必要量を充足","7日CPAが目標と同じ")))))
A11: =IF('実績貼り付け'!B11="","",'実績貼り付け'!A11) | B11: =IF('実績貼り付け'!B11="","",'実績貼り付け'!B11) | C11: =IF(B11="","",IF(OR('設定'!$B$12<>"OK",SUMIFS('実績貼り付け'!$H$19:$H$28,'実績貼り付け'!$A$19:$A$28,A11,'実績貼り付け'!$B$19:$B$28,B11)=0,SUMIFS('実績貼り付け'!$C$19:$C$28,'実績貼り付け'!$A$19:$A$28,A11,'実績貼り付け'!$B$19:$B$28,B11)<'実績貼り付け'!C11,SUMIFS('実績貼り付け'!$D$19:$D$28,'実績貼り付け'!$A$19:$A$28,A11,'実績貼り付け'!$B$19:$B$28,B11)<'実績貼り付け'!D11,SUMIFS('実績貼り付け'!$E$19:$E$28,'実績貼り付け'!$A$19:$A$28,A11,'実績貼り付け'!$B$19:$B$28,B11)<'実績貼り付け'!E11),"保留",IF('実績貼り付け'!D11=0,IF('実績貼り付け'!C11>='設定'!$B$6*'設定'!$B$9,"止める","保留"),IF('実績貼り付け'!E11<'設定'!$B$7,"保留",IF('実績貼り付け'!C11<'設定'!$B$8,"保留",IF(('実績貼り付け'!C11/'実績貼り付け'!D11)>'設定'!$B$6,"止める",IF(AND(SUMIFS('実績貼り付け'!$D$19:$D$28,'実績貼り付け'!$A$19:$A$28,A11,'実績貼り付け'!$B$19:$B$28,B11)>0,('実績貼り付け'!C11/'実績貼り付け'!D11)/(SUMIFS('実績貼り付け'!$C$19:$C$28,'実績貼り付け'!$A$19:$A$28,A11,'実績貼り付け'!$B$19:$B$28,B11)/SUMIFS('実績貼り付け'!$D$19:$D$28,'実績貼り付け'!$A$19:$A$28,A11,'実績貼り付け'!$B$19:$B$28,B11))-1>='設定'!$B$10),"絞る",IF(('実績貼り付け'!C11/'実績貼り付け'!D11)>'設定'!$B$5,"絞る",IF(('実績貼り付け'!C11/'実績貼り付け'!D11)='設定'!$B$5,"据え置き","伸ばす"))))))))) | D11: =IF(B11="","",IF(C11="保留","入力・期間整合・最低データ量を確認",IF(C11="止める",IF('実績貼り付け'!D11=0,"CV0で停止費用に到達","7日CPAが許容上限を超過"),IF(C11="絞る","7日CPAが急悪化または目標超過",IF(C11="伸ばす","7日CPAが目標未満・必要量を充足","7日CPAが目標と同じ")))))
A12: =IF('実績貼り付け'!B12="","",'実績貼り付け'!A12) | B12: =IF('実績貼り付け'!B12="","",'実績貼り付け'!B12) | C12: =IF(B12="","",IF(OR('設定'!$B$12<>"OK",SUMIFS('実績貼り付け'!$H$19:$H$28,'実績貼り付け'!$A$19:$A$28,A12,'実績貼り付け'!$B$19:$B$28,B12)=0,SUMIFS('実績貼り付け'!$C$19:$C$28,'実績貼り付け'!$A$19:$A$28,A12,'実績貼り付け'!$B$19:$B$28,B12)<'実績貼り付け'!C12,SUMIFS('実績貼り付け'!$D$19:$D$28,'実績貼り付け'!$A$19:$A$28,A12,'実績貼り付け'!$B$19:$B$28,B12)<'実績貼り付け'!D12,SUMIFS('実績貼り付け'!$E$19:$E$28,'実績貼り付け'!$A$19:$A$28,A12,'実績貼り付け'!$B$19:$B$28,B12)<'実績貼り付け'!E12),"保留",IF('実績貼り付け'!D12=0,IF('実績貼り付け'!C12>='設定'!$B$6*'設定'!$B$9,"止める","保留"),IF('実績貼り付け'!E12<'設定'!$B$7,"保留",IF('実績貼り付け'!C12<'設定'!$B$8,"保留",IF(('実績貼り付け'!C12/'実績貼り付け'!D12)>'設定'!$B$6,"止める",IF(AND(SUMIFS('実績貼り付け'!$D$19:$D$28,'実績貼り付け'!$A$19:$A$28,A12,'実績貼り付け'!$B$19:$B$28,B12)>0,('実績貼り付け'!C12/'実績貼り付け'!D12)/(SUMIFS('実績貼り付け'!$C$19:$C$28,'実績貼り付け'!$A$19:$A$28,A12,'実績貼り付け'!$B$19:$B$28,B12)/SUMIFS('実績貼り付け'!$D$19:$D$28,'実績貼り付け'!$A$19:$A$28,A12,'実績貼り付け'!$B$19:$B$28,B12))-1>='設定'!$B$10),"絞る",IF(('実績貼り付け'!C12/'実績貼り付け'!D12)>'設定'!$B$5,"絞る",IF(('実績貼り付け'!C12/'実績貼り付け'!D12)='設定'!$B$5,"据え置き","伸ばす"))))))))) | D12: =IF(B12="","",IF(C12="保留","入力・期間整合・最低データ量を確認",IF(C12="止める",IF('実績貼り付け'!D12=0,"CV0で停止費用に到達","7日CPAが許容上限を超過"),IF(C12="絞る","7日CPAが急悪化または目標超過",IF(C12="伸ばす","7日CPAが目標未満・必要量を充足","7日CPAが目標と同じ")))))
A13: =IF('実績貼り付け'!B13="","",'実績貼り付け'!A13) | B13: =IF('実績貼り付け'!B13="","",'実績貼り付け'!B13) | C13: =IF(B13="","",IF(OR('設定'!$B$12<>"OK",SUMIFS('実績貼り付け'!$H$19:$H$28,'実績貼り付け'!$A$19:$A$28,A13,'実績貼り付け'!$B$19:$B$28,B13)=0,SUMIFS('実績貼り付け'!$C$19:$C$28,'実績貼り付け'!$A$19:$A$28,A13,'実績貼り付け'!$B$19:$B$28,B13)<'実績貼り付け'!C13,SUMIFS('実績貼り付け'!$D$19:$D$28,'実績貼り付け'!$A$19:$A$28,A13,'実績貼り付け'!$B$19:$B$28,B13)<'実績貼り付け'!D13,SUMIFS('実績貼り付け'!$E$19:$E$28,'実績貼り付け'!$A$19:$A$28,A13,'実績貼り付け'!$B$19:$B$28,B13)<'実績貼り付け'!E13),"保留",IF('実績貼り付け'!D13=0,IF('実績貼り付け'!C13>='設定'!$B$6*'設定'!$B$9,"止める","保留"),IF('実績貼り付け'!E13<'設定'!$B$7,"保留",IF('実績貼り付け'!C13<'設定'!$B$8,"保留",IF(('実績貼り付け'!C13/'実績貼り付け'!D13)>'設定'!$B$6,"止める",IF(AND(SUMIFS('実績貼り付け'!$D$19:$D$28,'実績貼り付け'!$A$19:$A$28,A13,'実績貼り付け'!$B$19:$B$28,B13)>0,('実績貼り付け'!C13/'実績貼り付け'!D13)/(SUMIFS('実績貼り付け'!$C$19:$C$28,'実績貼り付け'!$A$19:$A$28,A13,'実績貼り付け'!$B$19:$B$28,B13)/SUMIFS('実績貼り付け'!$D$19:$D$28,'実績貼り付け'!$A$19:$A$28,A13,'実績貼り付け'!$B$19:$B$28,B13))-1>='設定'!$B$10),"絞る",IF(('実績貼り付け'!C13/'実績貼り付け'!D13)>'設定'!$B$5,"絞る",IF(('実績貼り付け'!C13/'実績貼り付け'!D13)='設定'!$B$5,"据え置き","伸ばす"))))))))) | D13: =IF(B13="","",IF(C13="保留","入力・期間整合・最低データ量を確認",IF(C13="止める",IF('実績貼り付け'!D13=0,"CV0で停止費用に到達","7日CPAが許容上限を超過"),IF(C13="絞る","7日CPAが急悪化または目標超過",IF(C13="伸ばす","7日CPAが目標未満・必要量を充足","7日CPAが目標と同じ")))))
A14: =IF('実績貼り付け'!B14="","",'実績貼り付け'!A14) | B14: =IF('実績貼り付け'!B14="","",'実績貼り付け'!B14) | C14: =IF(B14="","",IF(OR('設定'!$B$12<>"OK",SUMIFS('実績貼り付け'!$H$19:$H$28,'実績貼り付け'!$A$19:$A$28,A14,'実績貼り付け'!$B$19:$B$28,B14)=0,SUMIFS('実績貼り付け'!$C$19:$C$28,'実績貼り付け'!$A$19:$A$28,A14,'実績貼り付け'!$B$19:$B$28,B14)<'実績貼り付け'!C14,SUMIFS('実績貼り付け'!$D$19:$D$28,'実績貼り付け'!$A$19:$A$28,A14,'実績貼り付け'!$B$19:$B$28,B14)<'実績貼り付け'!D14,SUMIFS('実績貼り付け'!$E$19:$E$28,'実績貼り付け'!$A$19:$A$28,A14,'実績貼り付け'!$B$19:$B$28,B14)<'実績貼り付け'!E14),"保留",IF('実績貼り付け'!D14=0,IF('実績貼り付け'!C14>='設定'!$B$6*'設定'!$B$9,"止める","保留"),IF('実績貼り付け'!E14<'設定'!$B$7,"保留",IF('実績貼り付け'!C14<'設定'!$B$8,"保留",IF(('実績貼り付け'!C14/'実績貼り付け'!D14)>'設定'!$B$6,"止める",IF(AND(SUMIFS('実績貼り付け'!$D$19:$D$28,'実績貼り付け'!$A$19:$A$28,A14,'実績貼り付け'!$B$19:$B$28,B14)>0,('実績貼り付け'!C14/'実績貼り付け'!D14)/(SUMIFS('実績貼り付け'!$C$19:$C$28,'実績貼り付け'!$A$19:$A$28,A14,'実績貼り付け'!$B$19:$B$28,B14)/SUMIFS('実績貼り付け'!$D$19:$D$28,'実績貼り付け'!$A$19:$A$28,A14,'実績貼り付け'!$B$19:$B$28,B14))-1>='設定'!$B$10),"絞る",IF(('実績貼り付け'!C14/'実績貼り付け'!D14)>'設定'!$B$5,"絞る",IF(('実績貼り付け'!C14/'実績貼り付け'!D14)='設定'!$B$5,"据え置き","伸ばす"))))))))) | D14: =IF(B14="","",IF(C14="保留","入力・期間整合・最低データ量を確認",IF(C14="止める",IF('実績貼り付け'!D14=0,"CV0で停止費用に到達","7日CPAが許容上限を超過"),IF(C14="絞る","7日CPAが急悪化または目標超過",IF(C14="伸ばす","7日CPAが目標未満・必要量を充足","7日CPAが目標と同じ")))))
A17: 有料版の追加機能
A18: 有料版ではサマリーに判定件数、停止で浮く日額、伸ばす余地が出ます。
A19: 有料版では判定に同一媒体の計測障害チェックが出ます。
A20: 有料版では許容CPA逆算に採算上限と成約1件コストが出ます。
A21: 有料版では判定に一時停止、1回だけの再開、恒久停止が出ます。
A22: 有料版では判定に予算か入札かのレバーが出ます。
A23: 有料版では判定に学習期間内の再変更警告が出ます。
A24: 有料版では判定に月またぎ・期間メモの注意が出ます。
A25: 有料版では判定ログに予想と1週間後の結果のずれを残せます。
A26: 有料版では判断の手引きを読み物として収録しています。

Sheet 設定
A1: 設定
A2: 黄色=入力 / 青字=入力値 / 数式セルは編集しない
A4: 項目 | B4: 値 | C4: 説明
A5: 目標CPA（円） | B5: 5000 | C5: 目指す獲得単価。
A6: 許容CPA上限（円） | B6: 7500 | C6: 採算上、継続を許容する上限。
A7: 最低クリック数 | B7: 100 | C7: 7日判定の足切り。
A8: 最低費用（円） | B8: 10000 | C8: 7日判定の足切り。
A9: CV0停止の許容CPA倍率 | B9: 2 | C9: 7日CV0かつ上限×倍率以上なら止める候補。
A10: 7日CPA悪化率 | B10: 0.3 | C10: 7日CPAが30日CPAよりこの率以上悪化したら絞る。
A12: 設定チェック | B12: =IF(B5="","設定不正",IF(B6="","設定不正",IF(B7="","設定不正",IF(B8="","設定不正",IF(B9="","設定不正",IF(B10="","設定不正",IF(B5<=0,"設定不正",IF(B6<B5,"設定不正",IF(B7<0,"設定不正",IF(B8<0,"設定不正",IF(B9<=0,"設定不正",IF(B10<0,"設定不正","OK"))))))))))))

Sheet 実績貼り付け
A1: 実績貼り付け
A2: 黄色=入力 / 青字=入力値 / 数式セルは編集しない
A4: 媒体 | B4: キャンペーン | C4: 費用（円） | D4: CV | E4: クリック | F4: 表示回数 | G4: 期間 | H4: 行数（数式）
A5: Google | B5: 検索_主力 | C5: 21000 | D5: 7 | E5: 210 | F5: 4200 | G5: 直近7日 | H5: =IF(B5="",0,1)
A6: Meta | B6: 集客_広域 | C6: 42000 | D6: 7 | E6: 350 | F6: 7000 | G6: 直近7日 | H6: =IF(B6="",0,1)
A7: Yahoo! | B7: 検索_見直し | C7: 64000 | D7: 8 | E7: 400 | F7: 8000 | G7: 直近7日 | H7: =IF(B7="",0,1)
A8: Microsoft | B8: 検索_少量 | C8: 3000 | D8: 1 | E8: 30 | F8: 600 | G8: 直近7日 | H8: =IF(B8="",0,1)
A9: Google | B9: 検索_CVゼロ | C9: 15000 | D9: 0 | E9: 50 | F9: 1000 | G9: 直近7日 | H9: =IF(B9="",0,1)
A10: Meta | B10: 集客_安定 | C10: 35000 | D10: 7 | E10: 300 | F10: 6000 | G10: 直近7日 | H10: =IF(B10="",0,1)
A11: Yahoo! | B11: 検索_急変 | C11: 28000 | D11: 7 | E11: 250 | F11: 5000 | G11: 直近7日 | H11: =IF(B11="",0,1)
G12: 直近7日 | H12: =IF(B12="",0,1)
G13: 直近7日 | H13: =IF(B13="",0,1)
G14: 直近7日 | H14: =IF(B14="",0,1)
A17: 直近30日：19～28行に貼り付け
A18: 媒体 | B18: キャンペーン | C18: 費用（円） | D18: CV | E18: クリック | F18: 表示回数 | G18: 期間 | H18: 行数（数式）
A19: Google | B19: 検索_主力 | C19: 90000 | D19: 30 | E19: 1000 | F19: 20000 | G19: 直近30日 | H19: =IF(B19="",0,1)
A20: Meta | B20: 集客_広域 | C20: 120000 | D20: 30 | E20: 1300 | F20: 26000 | G20: 直近30日 | H20: =IF(B20="",0,1)
A21: Yahoo! | B21: 検索_見直し | C21: 210000 | D21: 30 | E21: 1600 | F21: 32000 | G21: 直近30日 | H21: =IF(B21="",0,1)
A22: Microsoft | B22: 検索_少量 | C22: 12000 | D22: 3 | E22: 130 | F22: 2600 | G22: 直近30日 | H22: =IF(B22="",0,1)
A23: Google | B23: 検索_CVゼロ | C23: 30000 | D23: 4 | E23: 150 | F23: 3000 | G23: 直近30日 | H23: =IF(B23="",0,1)
A24: Meta | B24: 集客_安定 | C24: 150000 | D24: 30 | E24: 1400 | F24: 28000 | G24: 直近30日 | H24: =IF(B24="",0,1)
A25: Yahoo! | B25: 検索_急変 | C25: 60000 | D25: 30 | E25: 1200 | F25: 24000 | G25: 直近30日 | H25: =IF(B25="",0,1)
G26: 直近30日 | H26: =IF(B26="",0,1)
G27: 直近30日 | H27: =IF(B27="",0,1)
G28: 直近30日 | H28: =IF(B28="",0,1)

Sheet 判定ルール
A1: 判定ルール
A2: 黄色=入力 / 青字=入力値 / 数式セルは編集しない
A4: 項目 | B4: 一般論と根拠
A5: 順序 | B5: 入力不備→CV0停止条件→少量保留→許容CPA超過→7日急悪化→目標CPA比較の順で判定します。
A6: 止める | B6: 7日CV0で許容CPA×倍率以上を消化、または7日CPAが許容CPAを超えた場合。
A7: 絞る | B7: 7日CPAが30日CPAより設定率以上悪化、または目標CPAを超えた場合。
A8: 据え置き | B8: 停止、絞る、保留の条件に当たらず、7日CPAが目標CPAと同じ場合。
A9: 伸ばす | B9: 最低量を満たし、7日CPAが目標CPA未満の場合。
A10: 保留 | B10: 入力不備、期間矛盾、少量データ、停止費用未満のCV0。

Sheet 使い方
A1: 使い方
A2: 黄色=入力 / 青字=入力値 / 数式セルは編集しない
A4: 項目 | B4: 説明
A5: 1 設定 | B5: 目標CPA、許容CPA、最低量、CV0停止倍率、悪化率を自社用に変更し、B12がOKか確認します。
A6: 2 貼る | B6: 同じ終了日の7日を5～14行、30日を19～28行へA:Fだけ貼ります。最大10キャンペーンです。
A7: 3 判断 | B7: 判定と理由1行だけを確認します。予算配分、計測障害、停止再開、変更ガード、ログは有料版の機能です。
A8: 注意 | B8: 通貨、税、タイムゾーン、CV定義、媒体名、キャンペーン名を両期間で揃えます。媒体への自動反映はありません。
B10: 判定の原因（計測・入札・配信面・LPなど）を調べる場合: 広告アカウント診断 https://lio-works.com/ad-account-audit/?utm_source=cpa_sheet&utm_medium=xlsx
